BEGIN:VCALENDAR
VERSION:2.0
PRODID:-//RHO Consulting - ECPv4.6.20.1//NONSGML v1.0//EN
CALSCALE:GREGORIAN
METHOD:PUBLISH
X-WR-CALNAME:RHO Consulting
X-ORIGINAL-URL:https://rhoconsulting.es
X-WR-CALDESC:Events for RHO Consulting
BEGIN:VEVENT
DTSTART;TZID=UTC+1:20200214T160000
DTEND;TZID=UTC+1:20200214T160000
DTSTAMP:20260424T165709
CREATED:20191021T111241Z
LAST-MODIFIED:20200109T225108Z
UID:1465-1581696000-1581696000@rhoconsulting.es
SUMMARY:Máster de Liderazgo Integral 4.0
DESCRIPTION:RHOgroup\, «Executive Programs»\, presenta un novedoso máster de liderazgo\, dirigido e impartido por Miguel Moran\, acompañado por líderes relevantes del mundo de la empresa y de las organizaciones\, que impartirán diez Máster Class. \nInfórmate aquí\n
URL:https://rhoconsulting.es/index.php/event/master-de-liderazgo-integral-4-0/
LOCATION:C/ Aurelio Menéndez 13\, Gijón\, Asturias\, 33204\, España
ATTACH;FMTTYPE=image/png:https://rhoconsulting.es/wp-content/uploads/2019/10/cartel-máster-horizontal-226-x-97.png
END:VEVENT
END:VCALENDAR