BEGIN:VCALENDAR
VERSION:2.0
PRODID:-//RHO Consulting - ECPv4.6.20.1//NONSGML v1.0//EN
CALSCALE:GREGORIAN
METHOD:PUBLISH
X-WR-CALNAME:RHO Consulting
X-ORIGINAL-URL:https://rhoconsulting.es
X-WR-CALDESC:Events for RHO Consulting
BEGIN:VEVENT
DTSTART;TZID=UTC+1:20220923T153000
DTEND;TZID=UTC+1:20221126T140000
DTSTAMP:20260424T153128
CREATED:20220921T091904Z
LAST-MODIFIED:20220921T100641Z
UID:1718-1663947000-1669471200@rhoconsulting.es
SUMMARY:COMUNICACION EFECTIVA Y TRABAJO EN EQUIPO
DESCRIPTION: \n
URL:https://rhoconsulting.es/index.php/event/comunicacion-efectiva-y-trabajo-en-equipo/
LOCATION:calle Pintor Luis Fernández N2\, OVIEDO\, Asturias\, 33007\, España
END:VEVENT
END:VCALENDAR